BEGIN:VCALENDAR
VERSION:2.0
PRODID:-//Traveller - ECPv6.15.20//NONSGML v1.0//EN
CALSCALE:GREGORIAN
METHOD:PUBLISH
X-ORIGINAL-URL:https://www.travellerccg.com
X-WR-CALDESC:Events for Traveller
REFRESH-INTERVAL;VALUE=DURATION:PT1H
X-Robots-Tag:noindex
X-PUBLISHED-TTL:PT1H
BEGIN:VTIMEZONE
TZID:America/Los_Angeles
BEGIN:DAYLIGHT
TZOFFSETFROM:-0800
TZOFFSETTO:-0700
TZNAME:PDT
DTSTART:20180311T100000
END:DAYLIGHT
BEGIN:STANDARD
TZOFFSETFROM:-0700
TZOFFSETTO:-0800
TZNAME:PST
DTSTART:20181104T090000
END:STANDARD
BEGIN:DAYLIGHT
TZOFFSETFROM:-0800
TZOFFSETTO:-0700
TZNAME:PDT
DTSTART:20190310T100000
END:DAYLIGHT
BEGIN:STANDARD
TZOFFSETFROM:-0700
TZOFFSETTO:-0800
TZNAME:PST
DTSTART:20191103T090000
END:STANDARD
BEGIN:DAYLIGHT
TZOFFSETFROM:-0800
TZOFFSETTO:-0700
TZNAME:PDT
DTSTART:20200308T100000
END:DAYLIGHT
BEGIN:STANDARD
TZOFFSETFROM:-0700
TZOFFSETTO:-0800
TZNAME:PST
DTSTART:20201101T090000
END:STANDARD
END:VTIMEZONE
BEGIN:VEVENT
DTSTART;TZID=America/Los_Angeles:20190721T090000
DTEND;TZID=America/Los_Angeles:20190721T130000
DTSTAMP:20260421T174254
CREATED:20180308T130531Z
LAST-MODIFIED:20190607T063929Z
UID:1856-1563699600-1563714000@www.travellerccg.com
SUMMARY:Conquest Sac 2019 Traveller Demo & Tournament
DESCRIPTION:A card game with trade\, exploration and combat in Marc Miller’s classic RPG setting\, The Third Imperium. \nTraveller is non-collectable. There’s no random allocation of cards\, and no rarities. Every product is a fixed set\, so you always know exactly what you’re getting. This box comes with two Ship Decks (Scout and Free Trader)\, 60 additional cards\, a rule book and counter sheet. \nCome learn the game or play in the Tournament.  Come early and do both.
URL:https://www.travellerccg.com/event/conquest-sac-2018-traveller-demo-tournament/
LOCATION:Conquest SAC\, 5411 Luce Ave\, McClellan Park\, CA\, 95652\, United States
CATEGORIES:Casual Play,Demo,Tournament
END:VEVENT
END:VCALENDAR