BEGIN:VCALENDAR
VERSION:2.0
PRODID:-//Traveller - ECPv6.15.20//NONSGML v1.0//EN
CALSCALE:GREGORIAN
METHOD:PUBLISH
X-WR-CALNAME:Traveller
X-ORIGINAL-URL:https://www.travellerccg.com
X-WR-CALDESC:Events for Traveller
REFRESH-INTERVAL;VALUE=DURATION:PT1H
X-Robots-Tag:noindex
X-PUBLISHED-TTL:PT1H
BEGIN:VTIMEZONE
TZID:America/Los_Angeles
BEGIN:DAYLIGHT
TZOFFSETFROM:-0800
TZOFFSETTO:-0700
TZNAME:PDT
DTSTART:20170312T100000
END:DAYLIGHT
BEGIN:STANDARD
TZOFFSETFROM:-0700
TZOFFSETTO:-0800
TZNAME:PST
DTSTART:20171105T090000
END:STANDARD
BEGIN:DAYLIGHT
TZOFFSETFROM:-0800
TZOFFSETTO:-0700
TZNAME:PDT
DTSTART:20180311T100000
END:DAYLIGHT
BEGIN:STANDARD
TZOFFSETFROM:-0700
TZOFFSETTO:-0800
TZNAME:PST
DTSTART:20181104T090000
END:STANDARD
BEGIN:DAYLIGHT
TZOFFSETFROM:-0800
TZOFFSETTO:-0700
TZNAME:PDT
DTSTART:20190310T100000
END:DAYLIGHT
BEGIN:STANDARD
TZOFFSETFROM:-0700
TZOFFSETTO:-0800
TZNAME:PST
DTSTART:20191103T090000
END:STANDARD
END:VTIMEZONE
BEGIN:VEVENT
DTSTART;TZID=America/Los_Angeles:20181111T130000
DTEND;TZID=America/Los_Angeles:20181111T160000
DTSTAMP:20260421T044540
CREATED:20181107T110907Z
LAST-MODIFIED:20181107T110907Z
UID:1944-1541941200-1541952000@www.travellerccg.com
SUMMARY:Traveller CCG Demo
DESCRIPTION:Traveller is a card game adaptation from Marc Miller’s classic Science-Fiction role-playing game. Players assume the role of ship Captains plying the mains of the Third Imperium. The basic mechanics are an icon-driven race game\, with ample opportunities to interact with\, and even engage in piracy against\, other players. All Captains must also contend with a hostile galaxy and the looming threat of insolvency.
URL:https://www.travellerccg.com/event/traveller-ccg-demo-2/
LOCATION:Conquest Avalon\, 5411 Luce Ave\, McClellan\, CA\, 95652\, United States
CATEGORIES:Casual Play,Demo
ATTACH;FMTTYPE=image/jpeg:https://www.travellerccg.com/wp-content/uploads/2018/11/Avalon14-1-300x280.jpg
END:VEVENT
BEGIN:VEVENT
DTSTART;TZID=America/Los_Angeles:20181124T120000
DTEND;TZID=America/Los_Angeles:20181124T160000
DTSTAMP:20260421T044540
CREATED:20181121T193611Z
LAST-MODIFIED:20181121T193611Z
UID:1972-1543060800-1543075200@www.travellerccg.com
SUMMARY:Gobblecon 2018
DESCRIPTION:Come join Ian and Jeff for some casual Traveller CCG play at GobbleCon in the San Francisco Bay Area on Saturday\, November 24th from 12 pm to 4 pm!
URL:https://www.travellerccg.com/event/gobblecon-2018/
LOCATION:GobbleCon\, 1333 Bayshore Highway\, Burlingame\, CA\, 94010\, United States
CATEGORIES:Casual Play,Demo
ATTACH;FMTTYPE=image/png:https://www.travellerccg.com/wp-content/uploads/2018/11/Gobble.png
ORGANIZER;CN="Horizon Games":MAILTO:contact@travellerccg.com
END:VEVENT
END:VCALENDAR