BEGIN:VCALENDAR
VERSION:2.0
PRODID:-//Traveller - ECPv6.15.20//NONSGML v1.0//EN
CALSCALE:GREGORIAN
METHOD:PUBLISH
X-ORIGINAL-URL:https://www.travellerccg.com
X-WR-CALDESC:Events for Traveller
REFRESH-INTERVAL;VALUE=DURATION:PT1H
X-Robots-Tag:noindex
X-PUBLISHED-TTL:PT1H
BEGIN:VTIMEZONE
TZID:America/Los_Angeles
BEGIN:DAYLIGHT
TZOFFSETFROM:-0800
TZOFFSETTO:-0700
TZNAME:PDT
DTSTART:20180311T100000
END:DAYLIGHT
BEGIN:STANDARD
TZOFFSETFROM:-0700
TZOFFSETTO:-0800
TZNAME:PST
DTSTART:20181104T090000
END:STANDARD
BEGIN:DAYLIGHT
TZOFFSETFROM:-0800
TZOFFSETTO:-0700
TZNAME:PDT
DTSTART:20190310T100000
END:DAYLIGHT
BEGIN:STANDARD
TZOFFSETFROM:-0700
TZOFFSETTO:-0800
TZNAME:PST
DTSTART:20191103T090000
END:STANDARD
BEGIN:DAYLIGHT
TZOFFSETFROM:-0800
TZOFFSETTO:-0700
TZNAME:PDT
DTSTART:20200308T100000
END:DAYLIGHT
BEGIN:STANDARD
TZOFFSETFROM:-0700
TZOFFSETTO:-0800
TZNAME:PST
DTSTART:20201101T090000
END:STANDARD
END:VTIMEZONE
BEGIN:VEVENT
DTSTART;TZID=America/Los_Angeles:20190215T170000
DTEND;TZID=America/Los_Angeles:20190215T200000
DTSTAMP:20260421T105905
CREATED:20171209T113532Z
LAST-MODIFIED:20190205T195613Z
UID:1415-1550250000-1550260800@www.travellerccg.com
SUMMARY:DunDraCon Open Demo
DESCRIPTION:An open demo event at the DunDraCon gaming convention.  If you’re new to it\, come learn how to play the Traveller Customizable Card Game!  If you’re already an old hand\, stop on by and get in a few practice games or chat with the developers! \nPromo cards available for all participants!
URL:https://www.travellerccg.com/event/dundracon-open-demo/
LOCATION:DunDraCon\, 2600 Bishop Drive\, San Ramon\, CA\, 94583\, United States
CATEGORIES:Casual Play,Demo
ATTACH;FMTTYPE=image/gif:https://www.travellerccg.com/wp-content/uploads/2017/12/dundracon-43b.gif
ORGANIZER;CN="Horizon Games":MAILTO:contact@travellerccg.com
END:VEVENT
BEGIN:VEVENT
DTSTART;TZID=America/Los_Angeles:20190216T090000
DTEND;TZID=America/Los_Angeles:20190216T120000
DTSTAMP:20260421T105905
CREATED:20180112T232323Z
LAST-MODIFIED:20190205T195848Z
UID:1721-1550307600-1550318400@www.travellerccg.com
SUMMARY:DunDraCon Open Demo
DESCRIPTION:An open demo event at the DunDraCon gaming convention.  If you’re new to it\, come learn how to play the Traveller Customizable Card Game!  If you’re already an old hand\, stop on by and get in a few practice games or chat with the developers! \nPlayers are welcome to add in\, even if they can’t make the official start time. \nPromo cards available for all participants!
URL:https://www.travellerccg.com/event/dundracon-open-demo-2/
LOCATION:DunDraCon\, 2600 Bishop Drive\, San Ramon\, CA\, 94583\, United States
CATEGORIES:Casual Play,Demo
ATTACH;FMTTYPE=image/gif:https://www.travellerccg.com/wp-content/uploads/2017/12/dundracon-43b.gif
ORGANIZER;CN="Horizon Games":MAILTO:contact@travellerccg.com
END:VEVENT
BEGIN:VEVENT
DTSTART;TZID=America/Los_Angeles:20190216T130000
DTEND;TZID=America/Los_Angeles:20190216T170000
DTSTAMP:20260421T105905
CREATED:20180112T234424Z
LAST-MODIFIED:20190205T202917Z
UID:1729-1550322000-1550336400@www.travellerccg.com
SUMMARY:DunDraCon Tournament
DESCRIPTION:Whether you just read some of the cards earlier in the day or were one of our awesome Kickstarter backers\, here’s your chance to sling guns or missiles or bears against other players and the card game’s creators. \nDecks available to borrow. \nFreebies! Prizes! \nPlayers of all skill levels welcome!
URL:https://www.travellerccg.com/event/dundracon-tournament/
LOCATION:DunDraCon\, 2600 Bishop Drive\, San Ramon\, CA\, 94583\, United States
CATEGORIES:Casual Play,Demo,Tournament
ATTACH;FMTTYPE=image/gif:https://www.travellerccg.com/wp-content/uploads/2017/12/dundracon-43b.gif
ORGANIZER;CN="Horizon Games":MAILTO:contact@travellerccg.com
END:VEVENT
BEGIN:VEVENT
DTSTART;TZID=America/Los_Angeles:20190217T090000
DTEND;TZID=America/Los_Angeles:20190217T120000
DTSTAMP:20260421T105905
CREATED:20180112T233156Z
LAST-MODIFIED:20190205T200249Z
UID:1727-1550394000-1550404800@www.travellerccg.com
SUMMARY:DunDraCon Open Demo
DESCRIPTION:An open demo event at the DunDraCon gaming convention.  If you’re new to it\, come learn how to play the Traveller Customizable Card Game!  If you’re already an old hand\, stop on by and get in a few practice games or chat with the developers! \nPlayers are welcome to add in\, even if they can’t make the official start time. \nPromo cards available for all participants!
URL:https://www.travellerccg.com/event/dundracon-open-demo-4/
LOCATION:DunDraCon\, 2600 Bishop Drive\, San Ramon\, CA\, 94583\, United States
CATEGORIES:Casual Play,Demo
ATTACH;FMTTYPE=image/gif:https://www.travellerccg.com/wp-content/uploads/2017/12/dundracon-43b.gif
ORGANIZER;CN="Horizon Games":MAILTO:contact@travellerccg.com
END:VEVENT
END:VCALENDAR